BEGIN:VCALENDAR
VERSION:2.0
PRODID:icalendar-ruby
CALSCALE:GREGORIAN
METHOD:PUBLISH
BEGIN:VEVENT
DTSTAMP:20260421T234021Z
UID:8-487582@faithunited121.tithelysetup5.com
DTSTART:20261104T230000Z
DTEND:20261105T000000Z
CLASS:PUBLIC
CREATED:20260421T180411
DESCRIPTION:
LAST-MODIFIED:20260421T180411
LOCATION:Library
SUMMARY:Bible Study
URL;VALUE=URI:https://fargofaithumc.org/events/bible-study/2026-11-04
ATTACH;FILENAME=Bible Study2.jpg;FMTTYPE=image/jpeg:https://dq5pwpg1q8ru0.c
 loudfront.net/2026/01/13/16/34/30/1f99f72b-6f24-4a7e-b14f-fae77e5489ff/Bib
 le%20Study2.jpg
END:VEVENT
END:VCALENDAR
