BEGIN:VCALENDAR
VERSION:2.0
PRODID:icalendar-ruby
CALSCALE:GREGORIAN
METHOD:PUBLISH
BEGIN:VEVENT
DTSTAMP:20260421T233813Z
UID:23-487784@faithunited121.tithelysetup5.com
DTSTART:20261112T180000Z
DTEND:20261112T190000Z
CLASS:PUBLIC
CREATED:20260421T180412
DESCRIPTION:
LAST-MODIFIED:20260421T180412
LOCATION:
SUMMARY:Care Ministry
URL;VALUE=URI:https://fargofaithumc.org/events/care-ministry/2026-11-12
ATTACH;FILENAME=care ministry2.webp;FMTTYPE=image/webp:https://dq5pwpg1q8ru
 0.cloudfront.net/2026/01/26/16/15/18/6e907b2b-7ff0-4e88-9aa1-53a82b0bdfc3/
 care%20ministry2.webp
END:VEVENT
END:VCALENDAR
