BEGIN:VCALENDAR
VERSION:2.0
PRODID:icalendar-ruby
CALSCALE:GREGORIAN
METHOD:PUBLISH
BEGIN:VEVENT
DTSTAMP:20260421T081209Z
UID:42-485488@faithunited121.tithelysetup5.com
DTSTART:20261015T213000Z
DTEND:20261015T230000Z
CLASS:PUBLIC
CREATED:20260420T202619
DESCRIPTION:
LAST-MODIFIED:20260420T202619
LOCATION:
SUMMARY:English Conversation Class
URL;VALUE=URI:https://fargofaithumc.org/events/english-conversation-class/2
 026-10-15
END:VEVENT
END:VCALENDAR
