BEGIN:VCALENDAR
VERSION:2.0
PRODID:icalendar-ruby
CALSCALE:GREGORIAN
METHOD:PUBLISH
BEGIN:VEVENT
DTSTAMP:20260419T124521Z
UID:42-479503@faithunited121.tithelysetup5.com
DTSTART:20261029T213000Z
DTEND:20261029T230000Z
CLASS:PUBLIC
CREATED:20260419T031520
DESCRIPTION:
LAST-MODIFIED:20260419T031520
LOCATION:
SUMMARY:English Conversation Class
URL;VALUE=URI:https://fargofaithumc.org/events/english-conversation-class/2
 026-10-29
END:VEVENT
END:VCALENDAR
