BEGIN:VCALENDAR
VERSION:2.0
PRODID:icalendar-ruby
CALSCALE:GREGORIAN
METHOD:PUBLISH
BEGIN:VEVENT
DTSTAMP:20260420T102238Z
UID:63-431095@faithunited121.tithelysetup5.com
DTSTART:20260424T183000Z
DTEND:20260424T200000Z
CLASS:PUBLIC
CREATED:20260402T104138
DESCRIPTION:
LAST-MODIFIED:20260402T104138
LOCATION:
SUMMARY:Faith Food Pantry
URL;VALUE=URI:https://fargofaithumc.org/events/faith-food-pantry--63/2026-0
 4-24
ATTACH;FILENAME=Food Pantry2.jpg;FMTTYPE=image/jpeg:https://dq5pwpg1q8ru0.c
 loudfront.net/2026/04/02/15/41/37/9c632c0d-4ea4-4e80-85d9-f15a77a8bdda/Foo
 d%20Pantry2.jpg
END:VEVENT
END:VCALENDAR
