BEGIN:VCALENDAR
VERSION:2.0
PRODID:icalendar-ruby
CALSCALE:GREGORIAN
METHOD:PUBLISH
BEGIN:VEVENT
DTSTAMP:20260420T102211Z
UID:56-402565@faithunited121.tithelysetup5.com
DTSTART:20260425T130000Z
DTEND:20260426T010000Z
CLASS:PUBLIC
CREATED:20260323T093500
DESCRIPTION:
LAST-MODIFIED:20260323T093500
LOCATION:Fellowship Hall
SUMMARY:Nepali Society of Fargo Moorhead
URL;VALUE=URI:https://fargofaithumc.org/events/nepali-society-of-fargo-moor
 head/2026-04-25
END:VEVENT
END:VCALENDAR
